BEGIN:VCALENDAR
VERSION:2.0
PRODID:-//Hva Skjer i Asker//Activity 184995//NO
BEGIN:VEVENT
UID:c8952e92-13f6-4e40-9096-4fccbb90bd3c
DTSTAMP:20260425T132945Z
ORGANIZER:Asker kommune
LOCATION:Stranda 5, 3480 Filtvet
DTSTART:20260505T163000Z
DTEND:20260505T173000Z
DESCRIPTION:Les mer om arrangementet:<br><br><a href="https://www.hvaskjeri
 asker.no/arrangorer/norwegian-viola-festival2/litauiske-toner-pa-filtvet-f
 yr/">Litauiske toner på Filtvet fyr</a>
X-ALT-DESC;FMTTYPE=text/html:Les mer om arrangementet:<br><br><a href="http
 s://www.hvaskjeriasker.no/arrangorer/norwegian-viola-festival2/litauiske-t
 oner-pa-filtvet-fyr/">Litauiske toner på Filtvet fyr</a>
SUMMARY:Litauiske toner på Filtvet fyr
END:VEVENT
END:VCALENDAR
