BEGIN:VCALENDAR
VERSION:2.0
PRODID:-//Hva Skjer i Asker//Activity 184938//NO
BEGIN:VEVENT
UID:6c4fc6bd-7eed-41fe-9ced-a8c2dd81611e
DTSTAMP:20260425T012029Z
ORGANIZER:Asker kommune
LOCATION:Velhusveien 9
DTSTART:20260425T183000Z
DTEND:20260425T200000Z
DESCRIPTION:Les mer om arrangementet:<br><br><a href="https://www.hvaskjeri
 asker.no/arrangorer/grisehuset/kabaret-konsert-pa-grisehuset/">Kabaret-kon
 sert på Grisehuset</a>
X-ALT-DESC;FMTTYPE=text/html:Les mer om arrangementet:<br><br><a href="http
 s://www.hvaskjeriasker.no/arrangorer/grisehuset/kabaret-konsert-pa-grisehu
 set/">Kabaret-konsert på Grisehuset</a>
SUMMARY:Kabaret-konsert på Grisehuset
END:VEVENT
END:VCALENDAR
