BEGIN:VCALENDAR
VERSION:2.0
PRODID:-//Hva Skjer i Asker//Activity 184927//NO
BEGIN:VEVENT
UID:935b8ca3-0d85-4406-ac80-8d2e32240867
DTSTAMP:20260424T140959Z
ORGANIZER:Asker kommune
LOCATION:Skoglundveien 1a, 3480 Filtvet
DTSTART:20260506T080000Z
DTEND:20260506T130000Z
DESCRIPTION:Les mer om arrangementet:<br><br><a href="https://www.hvaskjeri
 asker.no/arrangorer/Hørselsforbundet-Asker/gratis-horselstest-og-horselshj
 elp/">Gratis hørselstest og hørselshjelp</a>
X-ALT-DESC;FMTTYPE=text/html:Les mer om arrangementet:<br><br><a href="http
 s://www.hvaskjeriasker.no/arrangorer/Hørselsforbundet-Asker/gratis-horsels
 test-og-horselshjelp/">Gratis hørselstest og hørselshjelp</a>
SUMMARY:Gratis hørselstest og hørselshjelp
RRULE:FREQ=MONTHLY;UNTIL=20260630T144910Z
END:VEVENT
END:VCALENDAR
