BEGIN:VCALENDAR
VERSION:2.0
PRODID:-//Hva Skjer i Asker//Activity 184787//NO
BEGIN:VEVENT
UID:d7a0d190-47e5-4721-9742-8f271d5126f2
DTSTAMP:20260423T044726Z
ORGANIZER:Asker kommune
LOCATION:Strøket 15A, 1383 Asker
DTSTART:20260920T110000Z
DTEND:20260920T120000Z
DESCRIPTION:Les mer om arrangementet:<br><br><a href="https://www.hvaskjeri
 asker.no/arrangorer/asker-kulturhus/plutselig-barneteater/">Plutselig Barn
 eteater</a>
X-ALT-DESC;FMTTYPE=text/html:Les mer om arrangementet:<br><br><a href="http
 s://www.hvaskjeriasker.no/arrangorer/asker-kulturhus/plutselig-barneteater
 /">Plutselig Barneteater</a>
SUMMARY:Plutselig Barneteater
END:VEVENT
END:VCALENDAR
