BEGIN:VCALENDAR
VERSION:2.0
PRODID:-//Hva Skjer i Asker//Activity 184764//NO
BEGIN:VEVENT
UID:2df09550-fe30-4d13-9388-81b53a5b3392
DTSTAMP:20260423T111623Z
ORGANIZER:Asker kommune
LOCATION:Strøket 15A, 1383 Asker
DTSTART:20261219T180000Z
DTEND:20261219T200000Z
DESCRIPTION:Les mer om arrangementet:<br><br><a href="https://www.hvaskjeri
 asker.no/arrangorer/asker-kulturhus/pubkor--julespesial/">Pubkor – julespe
 sial!</a>
X-ALT-DESC;FMTTYPE=text/html:Les mer om arrangementet:<br><br><a href="http
 s://www.hvaskjeriasker.no/arrangorer/asker-kulturhus/pubkor--julespesial/"
 >Pubkor – julespesial!</a>
SUMMARY:Pubkor – julespesial!
END:VEVENT
END:VCALENDAR
