BEGIN:VCALENDAR
VERSION:2.0
PRODID:-//Hva Skjer i Asker//Activity 184702//NO
BEGIN:VEVENT
UID:024c4552-47b2-495b-a339-1d4ef53e7eaa
DTSTAMP:20260423T023423Z
ORGANIZER:Asker kommune
LOCATION:Kirkealleen 1, 3470 Slemmestad
DTSTART:20260423T080000Z
DTEND:20260423T180000Z
DESCRIPTION:Les mer om arrangementet:<br><br><a href="https://www.hvaskjeri
 asker.no/arrangorer/rortunet/damenes-aften-pa-rortunet/">Damenes aften på 
 Rortunet</a>
X-ALT-DESC;FMTTYPE=text/html:Les mer om arrangementet:<br><br><a href="http
 s://www.hvaskjeriasker.no/arrangorer/rortunet/damenes-aften-pa-rortunet/">
 Damenes aften på Rortunet</a>
SUMMARY:Damenes aften på Rortunet
END:VEVENT
END:VCALENDAR
