BEGIN:VCALENDAR
VERSION:2.0
PRODID:-//Hva Skjer i Asker//Activity 184698//NO
BEGIN:VEVENT
UID:6fc0c826-bee6-490a-831a-75dedbce169f
DTSTAMP:20260423T075826Z
ORGANIZER:Asker kommune
LOCATION:Strøket 15A, 1383 Asker
DTSTART:20261118T180000Z
DTEND:20261118T193000Z
DESCRIPTION:Les mer om arrangementet:<br><br><a href="https://www.hvaskjeri
 asker.no/arrangorer/asker-kulturhus/milli--brennas-krimshow/">Milli & Bren
 nas krimshow</a>
X-ALT-DESC;FMTTYPE=text/html:Les mer om arrangementet:<br><br><a href="http
 s://www.hvaskjeriasker.no/arrangorer/asker-kulturhus/milli--brennas-krimsh
 ow/">Milli & Brennas krimshow</a>
SUMMARY:Milli & Brennas krimshow
END:VEVENT
END:VCALENDAR
