BEGIN:VCALENDAR
VERSION:2.0
PRODID:-//Hva Skjer i Asker//Activity 184667//NO
BEGIN:VEVENT
UID:158070c0-d19c-43e4-8342-416c4b876a34
DTSTAMP:20260421T203648Z
ORGANIZER:Asker kommune
LOCATION:Vaterlandsveien 35, 3470 Slemmestad
DTSTART:20260530T080000Z
DTEND:20260530T140000Z
DESCRIPTION:Les mer om arrangementet:<br><br><a href="https://www.hvaskjeri
 asker.no/arrangorer/ungkultur-asker/ungdommens-marked/">Ungdommens marked<
 /a>
X-ALT-DESC;FMTTYPE=text/html:Les mer om arrangementet:<br><br><a href="http
 s://www.hvaskjeriasker.no/arrangorer/ungkultur-asker/ungdommens-marked/">U
 ngdommens marked</a>
SUMMARY:Ungdommens marked
END:VEVENT
END:VCALENDAR
