BEGIN:VCALENDAR
VERSION:2.0
PRODID:-//Hva Skjer i Asker//Activity 184657//NO
BEGIN:VEVENT
UID:4b7c7459-a2aa-4027-9b8b-1bd4f1375637
DTSTAMP:20260421T184623Z
ORGANIZER:Asker kommune
LOCATION:Vaterlandsveien 35, 3470 Slemmestad
DTSTART:20260529T163000Z
DTEND:20260529T200000Z
DESCRIPTION:Les mer om arrangementet:<br><br><a href="https://www.hvaskjeri
 asker.no/arrangorer/sekkefabrikken-kulturhus/musikkbingo-med-elisabeth2/">
 Musikkbingo med Elisabeth</a>
X-ALT-DESC;FMTTYPE=text/html:Les mer om arrangementet:<br><br><a href="http
 s://www.hvaskjeriasker.no/arrangorer/sekkefabrikken-kulturhus/musikkbingo-
 med-elisabeth2/">Musikkbingo med Elisabeth</a>
SUMMARY:Musikkbingo med Elisabeth
END:VEVENT
END:VCALENDAR
