BEGIN:VCALENDAR
VERSION:2.0
PRODID:-//Hva Skjer i Asker//Activity 184594//NO
BEGIN:VEVENT
UID:f5b50d79-eb84-4767-8098-0eb707d8c32e
DTSTAMP:20260422T131022Z
ORGANIZER:Asker kommune
LOCATION:Meierisvingen 2
DTSTART:20260422T110000Z
DTEND:20260426T140000Z
DESCRIPTION:Les mer om arrangementet:<br><br><a href="https://www.hvaskjeri
 asker.no/arrangorer/asker-kunstforening/50-ar---50-kunstnere2/">"50 år - 5
 0 kunstnere"</a>
X-ALT-DESC;FMTTYPE=text/html:Les mer om arrangementet:<br><br><a href="http
 s://www.hvaskjeriasker.no/arrangorer/asker-kunstforening/50-ar---50-kunstn
 ere2/">"50 år - 50 kunstnere"</a>
SUMMARY:"50 år - 50 kunstnere"
END:VEVENT
END:VCALENDAR
