BEGIN:VCALENDAR
VERSION:2.0
PRODID:-//Hva Skjer i Asker//Activity 184591//NO
BEGIN:VEVENT
UID:92d7ae12-d1ff-442b-a4ed-61257e442b0a
DTSTAMP:20260422T234057Z
ORGANIZER:Asker kommune
LOCATION:Bleikerveien 64
DTSTART:20260808T070000Z
DTEND:20260816T170000Z
DESCRIPTION:Les mer om arrangementet:<br><br><a href="https://www.hvaskjeri
 asker.no/arrangorer/asker-tennisklubb/landsturnering-u12/">Landsturnering 
 U12</a>
X-ALT-DESC;FMTTYPE=text/html:Les mer om arrangementet:<br><br><a href="http
 s://www.hvaskjeriasker.no/arrangorer/asker-tennisklubb/landsturnering-u12/
 ">Landsturnering U12</a>
SUMMARY:Landsturnering U12
END:VEVENT
END:VCALENDAR
