BEGIN:VCALENDAR
VERSION:2.0
PRODID:-//Hva Skjer i Asker//Activity 184584//NO
BEGIN:VEVENT
UID:0e1b4345-4475-4140-93d5-9e6e44bdd600
DTSTAMP:20260421T185103Z
ORGANIZER:Asker kommune
LOCATION:Bleikerveien 64
DTSTART:20260529T070000Z
DTEND:20260531T170000Z
DESCRIPTION:Les mer om arrangementet:<br><br><a href="https://www.hvaskjeri
 asker.no/arrangorer/asker-tennisklubb/apen-u12--apen-u14-29-31-mai/">Åpen 
 u12 + Åpen u14, 29-31 mai</a>
X-ALT-DESC;FMTTYPE=text/html:Les mer om arrangementet:<br><br><a href="http
 s://www.hvaskjeriasker.no/arrangorer/asker-tennisklubb/apen-u12--apen-u14-
 29-31-mai/">Åpen u12 + Åpen u14, 29-31 mai</a>
SUMMARY:Åpen u12 + Åpen u14, 29-31 mai
END:VEVENT
END:VCALENDAR
