BEGIN:VCALENDAR
VERSION:2.0
PRODID:-//Hva Skjer i Asker//Activity 184577//NO
BEGIN:VEVENT
UID:ea12d192-f51f-4248-8669-8cef1eecc13d
DTSTAMP:20260421T171332Z
ORGANIZER:Asker kommune
LOCATION:Hurumveien 51, 3474 Åros
DTSTART:20260526T160000Z
DTEND:20260526T170000Z
DESCRIPTION:Les mer om arrangementet:<br><br><a href="https://www.hvaskjeri
 asker.no/arrangorer/editmusic/jazzkonsert-med-poesi-og-toner/">Jazzkonsert
  med poesi og toner</a>
X-ALT-DESC;FMTTYPE=text/html:Les mer om arrangementet:<br><br><a href="http
 s://www.hvaskjeriasker.no/arrangorer/editmusic/jazzkonsert-med-poesi-og-to
 ner/">Jazzkonsert med poesi og toner</a>
SUMMARY:Jazzkonsert med poesi og toner
END:VEVENT
END:VCALENDAR
