BEGIN:VCALENDAR
VERSION:2.0
PRODID:-//Hva Skjer i Asker//Activity 184565//NO
BEGIN:VEVENT
UID:214d975a-6152-4a2d-afdc-86ce763006ea
DTSTAMP:20260422T072802Z
ORGANIZER:Asker kommune
LOCATION:Vestre Strandvei 3, 3482 Tofte
DTSTART:20260513T090000Z
DTEND:20260513T100000Z
DESCRIPTION:Les mer om arrangementet:<br><br><a href="https://www.hvaskjeri
 asker.no/arrangorer/tofte-bibliotek/foredrag-wergeland-og-17.-mai">Foredra
 g: Wergeland og 17. mai</a>
X-ALT-DESC;FMTTYPE=text/html:Les mer om arrangementet:<br><br><a href="http
 s://www.hvaskjeriasker.no/arrangorer/tofte-bibliotek/foredrag-wergeland-og
 -17.-mai">Foredrag: Wergeland og 17. mai</a>
SUMMARY:Foredrag: Wergeland og 17. mai
END:VEVENT
END:VCALENDAR
