BEGIN:VCALENDAR
VERSION:2.0
PRODID:-//Hva Skjer i Asker//Activity 184548//NO
BEGIN:VEVENT
UID:3163b069-6682-469d-a6d3-8a89155feebe
DTSTAMP:20260421T154249Z
ORGANIZER:Asker kommune
LOCATION:Tillaløkka 1, 3484 Holmsbu
DTSTART:20260523T110000Z
DTEND:20260523T130000Z
DESCRIPTION:Les mer om arrangementet:<br><br><a href="https://www.hvaskjeri
 asker.no/arrangorer/Holmsbu-Kunstmuseum/kunstprat-rain-on-my-window-pane/"
 >Kunstprat: RAIN ON MY WINDOW PANE</a>
X-ALT-DESC;FMTTYPE=text/html:Les mer om arrangementet:<br><br><a href="http
 s://www.hvaskjeriasker.no/arrangorer/Holmsbu-Kunstmuseum/kunstprat-rain-on
 -my-window-pane/">Kunstprat: RAIN ON MY WINDOW PANE</a>
SUMMARY:Kunstprat: RAIN ON MY WINDOW PANE
END:VEVENT
END:VCALENDAR
