BEGIN:VCALENDAR
VERSION:2.0
PRODID:-//Hva Skjer i Asker//Activity 184540//NO
BEGIN:VEVENT
UID:e3688c6d-e061-4466-8357-1aa2859af3bf
DTSTAMP:20260422T221007Z
ORGANIZER:Asker kommune
LOCATION:Otto Valstads vei 19, 1395 Hvalstad
DTSTART:20260728T100000Z
DTEND:20260730T120000Z
DESCRIPTION:Les mer om arrangementet:<br><br><a href="https://www.hvaskjeri
 asker.no/arrangorer/ceramics-house/keramikkverksted-i-sommerferien--a/">Ke
 ramikkverksted i sommerferien – A</a>
X-ALT-DESC;FMTTYPE=text/html:Les mer om arrangementet:<br><br><a href="http
 s://www.hvaskjeriasker.no/arrangorer/ceramics-house/keramikkverksted-i-som
 merferien--a/">Keramikkverksted i sommerferien – A</a>
SUMMARY:Keramikkverksted i sommerferien – A
END:VEVENT
END:VCALENDAR
