BEGIN:VCALENDAR
VERSION:2.0
PRODID:-//Hva Skjer i Asker//Activity 184526//NO
BEGIN:VEVENT
UID:3b18c9c6-2099-44e3-be73-72ae55584117
DTSTAMP:20260421T141050Z
ORGANIZER:Asker kommune
LOCATION:askertun, kirkelia 7, ASKER
DTSTART:20260520T170000Z
DTEND:20260520T183000Z
DESCRIPTION:Les mer om arrangementet:<br><br><a href="https://www.hvaskjeri
 asker.no/arrangorer/asker-menighet/prosjektkor-for-unge-13-19ar/">Prosjekt
 kor for unge (13-19år)</a>
X-ALT-DESC;FMTTYPE=text/html:Les mer om arrangementet:<br><br><a href="http
 s://www.hvaskjeriasker.no/arrangorer/asker-menighet/prosjektkor-for-unge-1
 3-19ar/">Prosjektkor for unge (13-19år)</a>
SUMMARY:Prosjektkor for unge (13-19år)
RRULE:FREQ=WEEKLY;UNTIL=20260617T125850Z
END:VEVENT
END:VCALENDAR
