BEGIN:VCALENDAR
VERSION:2.0
PRODID:-//Hva Skjer i Asker//Activity 184523//NO
BEGIN:VEVENT
UID:e457bd83-5c2b-4ce5-a000-93239173614c
DTSTAMP:20260425T143741Z
ORGANIZER:Asker kommune
LOCATION:Søndre Borgen 11, 1388 Borgen
DTSTART:20260429T100000Z
DTEND:20260429T103000Z
DESCRIPTION:Les mer om arrangementet:<br><br><a href="https://www.hvaskjeri
 asker.no/arrangorer/borgen-innbyggertorg/novelle-til-lunsj---med-lunsj/">N
 ovelle til lunsj - med lunsj</a>
X-ALT-DESC;FMTTYPE=text/html:Les mer om arrangementet:<br><br><a href="http
 s://www.hvaskjeriasker.no/arrangorer/borgen-innbyggertorg/novelle-til-luns
 j---med-lunsj/">Novelle til lunsj - med lunsj</a>
SUMMARY:Novelle til lunsj - med lunsj
END:VEVENT
END:VCALENDAR
