BEGIN:VCALENDAR
VERSION:2.0
PRODID:-//Hva Skjer i Asker//Activity 184494//NO
BEGIN:VEVENT
UID:8ac7f32a-24ef-498d-b2e1-91fa3b1c8191
DTSTAMP:20260421T205129Z
ORGANIZER:Asker kommune
LOCATION:Bleikeråsen 215
DTSTART:20260530T090000Z
DTEND:20260530T150000Z
DESCRIPTION:Les mer om arrangementet:<br><br><a href="https://www.hvaskjeri
 asker.no/arrangorer/quality-hotel-leangkollen/turist-i-egen-by-pa-leangkol
 len/">Turist i egen by på Leangkollen</a>
X-ALT-DESC;FMTTYPE=text/html:Les mer om arrangementet:<br><br><a href="http
 s://www.hvaskjeriasker.no/arrangorer/quality-hotel-leangkollen/turist-i-eg
 en-by-pa-leangkollen/">Turist i egen by på Leangkollen</a>
SUMMARY:Turist i egen by på Leangkollen
END:VEVENT
END:VCALENDAR
