BEGIN:VCALENDAR
VERSION:2.0
PRODID:-//Hva Skjer i Asker//Activity 184463//NO
BEGIN:VEVENT
UID:f6645b56-60f9-49b3-a268-f351af50c81f
DTSTAMP:20260422T121337Z
ORGANIZER:Asker kommune
LOCATION:Torvveien 1, 1383 Asker
DTSTART:20260606T100000Z
DTEND:20260606T104500Z
DESCRIPTION:Les mer om arrangementet:<br><br><a href="https://www.hvaskjeri
 asker.no/arrangorer/mellom-blas/asker-kulturuke---korpskonsert/">Asker Kul
 turuke - korpskonsert</a>
X-ALT-DESC;FMTTYPE=text/html:Les mer om arrangementet:<br><br><a href="http
 s://www.hvaskjeriasker.no/arrangorer/mellom-blas/asker-kulturuke---korpsko
 nsert/">Asker Kulturuke - korpskonsert</a>
SUMMARY:Asker Kulturuke - korpskonsert
END:VEVENT
END:VCALENDAR
