BEGIN:VCALENDAR
VERSION:2.0
PRODID:-//Hva Skjer i Asker//Activity 184452//NO
BEGIN:VEVENT
UID:720a51b7-8083-4e22-ac8f-1aa6f26dbf1c
DTSTAMP:20260420T130911Z
ORGANIZER:Asker kommune
LOCATION:Vestre Strandvei 2, 3482 Tofte
DTSTART:20260501T170000Z
DTEND:20260501T180000Z
DESCRIPTION:Les mer om arrangementet:<br><br><a href="https://www.hvaskjeri
 asker.no/arrangorer/norwegian-viola-festival2/internasjonale-vartoner-pa-t
 ofte/">"Internasjonale vårtoner på Tofte"</a>
X-ALT-DESC;FMTTYPE=text/html:Les mer om arrangementet:<br><br><a href="http
 s://www.hvaskjeriasker.no/arrangorer/norwegian-viola-festival2/internasjon
 ale-vartoner-pa-tofte/">"Internasjonale vårtoner på Tofte"</a>
SUMMARY:"Internasjonale vårtoner på Tofte"
END:VEVENT
END:VCALENDAR
