BEGIN:VCALENDAR
VERSION:2.0
PRODID:-//Hva Skjer i Asker//Activity 184449//NO
BEGIN:VEVENT
UID:4f8ba6f6-66b4-4876-ba55-5595bc1dc51a
DTSTAMP:20260420T030705Z
ORGANIZER:Asker kommune
LOCATION:Hurumveien 49
DTSTART:20260420T070000Z
DTEND:20260420T083000Z
DESCRIPTION:Les mer om arrangementet:<br><br><a href="https://www.hvaskjeri
 asker.no/arrangorer/aros-frivilligsentral/datahjelp-pa-aros-frivilligsentr
 al4/">Datahjelp på Åros Frivilligsentral</a>
X-ALT-DESC;FMTTYPE=text/html:Les mer om arrangementet:<br><br><a href="http
 s://www.hvaskjeriasker.no/arrangorer/aros-frivilligsentral/datahjelp-pa-ar
 os-frivilligsentral4/">Datahjelp på Åros Frivilligsentral</a>
SUMMARY:Datahjelp på Åros Frivilligsentral
END:VEVENT
END:VCALENDAR
