BEGIN:VCALENDAR
VERSION:2.0
PRODID:-//Hva Skjer i Asker//Activity 184364//NO
BEGIN:VEVENT
UID:6ab54bc6-57c8-423e-ab84-a4e0f62ce5b6
DTSTAMP:20260420T024428Z
ORGANIZER:Asker kommune
LOCATION:Blakstad Bryggevei 9, 1392 Vettre
DTSTART:20260622T063000Z
DTEND:20260625T140000Z
DESCRIPTION:Les mer om arrangementet:<br><br><a href="https://www.hvaskjeri
 asker.no/arrangorer/asker-seilforening/sjosproyt-uke-26-sommerleir2/">Sjøs
 prøyt uke 26 (sommerleir)</a>
X-ALT-DESC;FMTTYPE=text/html:Les mer om arrangementet:<br><br><a href="http
 s://www.hvaskjeriasker.no/arrangorer/asker-seilforening/sjosproyt-uke-26-s
 ommerleir2/">Sjøsprøyt uke 26 (sommerleir)</a>
SUMMARY:Sjøsprøyt uke 26 (sommerleir)
END:VEVENT
END:VCALENDAR
