BEGIN:VCALENDAR
VERSION:2.0
PRODID:-//Hva Skjer i Asker//Activity 184358//NO
BEGIN:VEVENT
UID:97ad4239-44dc-4cdf-a4b0-7f7e0e6b1694
DTSTAMP:20260420T024821Z
ORGANIZER:Asker kommune
LOCATION:Blakstad Bryggevei 9, 1392 Vettre
DTSTART:20260817T063000Z
DTEND:20260821T140000Z
DESCRIPTION:Les mer om arrangementet:<br><br><a href="https://www.hvaskjeri
 asker.no/arrangorer/asker-seilforening/sjosproyt-uke-33-sommerleir/">Sjøsp
 røyt uke 33 (sommerleir)</a>
X-ALT-DESC;FMTTYPE=text/html:Les mer om arrangementet:<br><br><a href="http
 s://www.hvaskjeriasker.no/arrangorer/asker-seilforening/sjosproyt-uke-33-s
 ommerleir/">Sjøsprøyt uke 33 (sommerleir)</a>
SUMMARY:Sjøsprøyt uke 33 (sommerleir)
END:VEVENT
END:VCALENDAR
