BEGIN:VCALENDAR
VERSION:2.0
PRODID:-//Hva Skjer i Asker//Activity 184352//NO
BEGIN:VEVENT
UID:35f0ac6a-9acd-42b1-b84a-293e3b2ade48
DTSTAMP:20260420T022323Z
ORGANIZER:Asker kommune
LOCATION:Blakstad Bryggevei 9, 1392 Vettre
DTSTART:20260803T063000Z
DTEND:20260807T140000Z
DESCRIPTION:Les mer om arrangementet:<br><br><a href="https://www.hvaskjeri
 asker.no/arrangorer/asker-seilforening/sjosproyt-uke-32-sommerleir/">Sjøsp
 røyt uke 32 (sommerleir)</a>
X-ALT-DESC;FMTTYPE=text/html:Les mer om arrangementet:<br><br><a href="http
 s://www.hvaskjeriasker.no/arrangorer/asker-seilforening/sjosproyt-uke-32-s
 ommerleir/">Sjøsprøyt uke 32 (sommerleir)</a>
SUMMARY:Sjøsprøyt uke 32 (sommerleir)
END:VEVENT
END:VCALENDAR
