BEGIN:VCALENDAR
VERSION:2.0
PRODID:-//Hva Skjer i Asker//Activity 184339//NO
BEGIN:VEVENT
UID:b0ecfd55-2333-45c9-adf7-aba14310e1df
DTSTAMP:20260420T022839Z
ORGANIZER:Asker kommune
LOCATION:Blakstad Bryggevei 9, 1392 Vettre
DTSTART:20260629T063000Z
DTEND:20260703T140000Z
DESCRIPTION:Les mer om arrangementet:<br><br><a href="https://www.hvaskjeri
 asker.no/arrangorer/asker-seilforening/sjosproyt-uke-27-sommerleir/">Sjøsp
 røyt uke 27 (sommerleir)</a>
X-ALT-DESC;FMTTYPE=text/html:Les mer om arrangementet:<br><br><a href="http
 s://www.hvaskjeriasker.no/arrangorer/asker-seilforening/sjosproyt-uke-27-s
 ommerleir/">Sjøsprøyt uke 27 (sommerleir)</a>
SUMMARY:Sjøsprøyt uke 27 (sommerleir)
END:VEVENT
END:VCALENDAR
