BEGIN:VCALENDAR
VERSION:2.0
PRODID:-//Hva Skjer i Asker//Activity 184295//NO
BEGIN:VEVENT
UID:5ddf35c0-c6d7-48f8-a2a8-a5d1ae91420b
DTSTAMP:20260423T012600Z
ORGANIZER:Asker kommune
LOCATION:Vogellund 26, 1394 Nesbru
DTSTART:20260810T070000Z
DTEND:20260814T130000Z
DESCRIPTION:Les mer om arrangementet:<br><br><a href="https://www.hvaskjeri
 asker.no/arrangorer/holmen-hockey/summer-camp-2026/">Summer Camp 2026</a>
X-ALT-DESC;FMTTYPE=text/html:Les mer om arrangementet:<br><br><a href="http
 s://www.hvaskjeriasker.no/arrangorer/holmen-hockey/summer-camp-2026/">Summ
 er Camp 2026</a>
SUMMARY:Summer Camp 2026
END:VEVENT
END:VCALENDAR
