BEGIN:VCALENDAR
VERSION:2.0
PRODID:-//Hva Skjer i Asker//Activity 184207//NO
BEGIN:VEVENT
UID:24d1d5c3-c026-4f2d-9820-3a7193aad40e
DTSTAMP:20260422T104904Z
ORGANIZER:Asker kommune
LOCATION:C. A. Johansens Plass 1 3430 Spikkestad
DTSTART:20260604T143000Z
DTEND:20260604T170000Z
DESCRIPTION:Les mer om arrangementet:<br><br><a href="https://www.hvaskjeri
 asker.no/arrangorer/royken-menighet/supertorsdag4/">Supertorsdag</a>
X-ALT-DESC;FMTTYPE=text/html:Les mer om arrangementet:<br><br><a href="http
 s://www.hvaskjeriasker.no/arrangorer/royken-menighet/supertorsdag4/">Super
 torsdag</a>
SUMMARY:Supertorsdag
END:VEVENT
END:VCALENDAR
