BEGIN:VCALENDAR
VERSION:2.0
PRODID:-//Hva Skjer i Asker//Activity 184204//NO
BEGIN:VEVENT
UID:409cb755-af47-4e66-a85e-ea8a16031614
DTSTAMP:20260422T110104Z
ORGANIZER:Asker kommune
LOCATION:C. A. Johansens Plass 1 3430 Spikkestad
DTSTART:20260521T143000Z
DTEND:20260521T170000Z
DESCRIPTION:Les mer om arrangementet:<br><br><a href="https://www.hvaskjeri
 asker.no/arrangorer/royken-menighet/supertorsdag3/">Supertorsdag</a>
X-ALT-DESC;FMTTYPE=text/html:Les mer om arrangementet:<br><br><a href="http
 s://www.hvaskjeriasker.no/arrangorer/royken-menighet/supertorsdag3/">Super
 torsdag</a>
SUMMARY:Supertorsdag
END:VEVENT
END:VCALENDAR
