BEGIN:VCALENDAR
VERSION:2.0
PRODID:-//Hva Skjer i Asker//Activity 184161//NO
BEGIN:VEVENT
UID:5d599e10-b9c7-4917-ba78-0022a1eebb36
DTSTAMP:20260421T153352Z
ORGANIZER:Asker kommune
LOCATION:Vaterlandsveien 27, 3470 Slemmestad (husk at gjennomkjøring fra Ny
 veien til Vaterlandsveien er stengt)er stengt)
DTSTART:20260521T140000Z
DTEND:20260521T171500Z
DESCRIPTION:Les mer om arrangementet:<br><br><a href="https://www.hvaskjeri
 asker.no/arrangorer/byggesak-asker-kommune/apen-kveld-slemmestad---byggesa
 k/">Åpen kveld Slemmestad - Byggesak</a>
X-ALT-DESC;FMTTYPE=text/html:Les mer om arrangementet:<br><br><a href="http
 s://www.hvaskjeriasker.no/arrangorer/byggesak-asker-kommune/apen-kveld-sle
 mmestad---byggesak/">Åpen kveld Slemmestad - Byggesak</a>
SUMMARY:Åpen kveld Slemmestad - Byggesak
END:VEVENT
END:VCALENDAR
