BEGIN:VCALENDAR
VERSION:2.0
PRODID:-//Hva Skjer i Asker//Activity 184149//NO
BEGIN:VEVENT
UID:8f8956ce-3e18-4552-b079-dc1b5fbfbab7
DTSTAMP:20260422T115333Z
ORGANIZER:Asker kommune
LOCATION:Vaterlandsveien 35, 3470 Slemmestad
DTSTART:20260606T130000Z
DTEND:20260606T143000Z
DESCRIPTION:Les mer om arrangementet:<br><br><a href="https://www.hvaskjeri
 asker.no/arrangorer/sekkefabrikken-kulturhus/nordic-voices-i-slambassenget
 /">Nordic Voices i Slambassenget</a>
X-ALT-DESC;FMTTYPE=text/html:Les mer om arrangementet:<br><br><a href="http
 s://www.hvaskjeriasker.no/arrangorer/sekkefabrikken-kulturhus/nordic-voice
 s-i-slambassenget/">Nordic Voices i Slambassenget</a>
SUMMARY:Nordic Voices i Slambassenget
END:VEVENT
END:VCALENDAR
