BEGIN:VCALENDAR
VERSION:2.0
PRODID:-//Hva Skjer i Asker//Activity 184124//NO
BEGIN:VEVENT
UID:b889e9da-388c-49f8-9a25-4a9ee59abb13
DTSTAMP:20260422T112700Z
ORGANIZER:Asker kommune
LOCATION:3430 Spikkestad
DTSTART:20260513T150000Z
DTEND:20260513T170000Z
DESCRIPTION:Les mer om arrangementet:<br><br><a href="https://www.hvaskjeri
 asker.no/arrangorer/idrettslaget-ros/tour-of-norway-for-kids/">Tour of Nor
 way for Kids</a>
X-ALT-DESC;FMTTYPE=text/html:Les mer om arrangementet:<br><br><a href="http
 s://www.hvaskjeriasker.no/arrangorer/idrettslaget-ros/tour-of-norway-for-k
 ids/">Tour of Norway for Kids</a>
SUMMARY:Tour of Norway for Kids
END:VEVENT
END:VCALENDAR
