BEGIN:VCALENDAR
VERSION:2.0
PRODID:-//Hva Skjer i Asker//Activity 184115//NO
BEGIN:VEVENT
UID:46d0df90-0698-4bb7-85c3-a0bbe3f38c36
DTSTAMP:20260421T095346Z
ORGANIZER:Asker kommune
LOCATION:Vestre Strandvei 3, 3482 Tofte
DTSTART:20260421T170000Z
DTEND:20260421T190000Z
DESCRIPTION:Les mer om arrangementet:<br><br><a href="https://www.hvaskjeri
 asker.no/arrangorer/the-barn-ministries/open-door2/">Open Door</a>
X-ALT-DESC;FMTTYPE=text/html:Les mer om arrangementet:<br><br><a href="http
 s://www.hvaskjeriasker.no/arrangorer/the-barn-ministries/open-door2/">Open
  Door</a>
SUMMARY:Open Door
END:VEVENT
END:VCALENDAR
