BEGIN:VCALENDAR
VERSION:2.0
PRODID:-//Hva Skjer i Asker//Activity 184024//NO
BEGIN:VEVENT
UID:95b39167-d982-43ea-840e-fc61cdf7e6e6
DTSTAMP:20260423T093527Z
ORGANIZER:Asker kommune
LOCATION:Strøket 15A, 1383 Asker
DTSTART:20261128T200000Z
DTEND:20261128T213000Z
DESCRIPTION:Les mer om arrangementet:<br><br><a href="https://www.hvaskjeri
 asker.no/arrangorer/asker-kulturhus/bard-tufte-johansen--prover-a-vare-pos
 itiv2/">Bård Tufte Johansen – Prøver å være positiv</a>
X-ALT-DESC;FMTTYPE=text/html:Les mer om arrangementet:<br><br><a href="http
 s://www.hvaskjeriasker.no/arrangorer/asker-kulturhus/bard-tufte-johansen--
 prover-a-vare-positiv2/">Bård Tufte Johansen – Prøver å være positiv</a>
SUMMARY:Bård Tufte Johansen – Prøver å være positiv
END:VEVENT
END:VCALENDAR
