BEGIN:VCALENDAR
VERSION:2.0
PRODID:-//Hva Skjer i Asker//Activity 184021//NO
BEGIN:VEVENT
UID:a3608d17-eee7-4d60-bf07-489d1ee2b35e
DTSTAMP:20260421T110913Z
ORGANIZER:Asker kommune
LOCATION:Søndre Borgen 11
DTSTART:20260515T090000Z
DTEND:20260515T100000Z
DESCRIPTION:Les mer om arrangementet:<br><br><a href="https://www.hvaskjeri
 asker.no/arrangorer/borgen-narmiljosentral/lunsjklubben-finne-ut-og-finne-
 pa/">Lunsjklubben: Finne ut og finne på</a>
X-ALT-DESC;FMTTYPE=text/html:Les mer om arrangementet:<br><br><a href="http
 s://www.hvaskjeriasker.no/arrangorer/borgen-narmiljosentral/lunsjklubben-f
 inne-ut-og-finne-pa/">Lunsjklubben: Finne ut og finne på</a>
SUMMARY:Lunsjklubben: Finne ut og finne på
END:VEVENT
END:VCALENDAR
