BEGIN:VCALENDAR
VERSION:2.0
PRODID:-//Hva Skjer i Asker//Activity 184011//NO
BEGIN:VEVENT
UID:da6dfd09-1606-4c18-8e37-ec7094a3d57a
DTSTAMP:20260421T140814Z
ORGANIZER:Asker kommune
LOCATION:Sandspollen, Sætre
DTSTART:20260520T080000Z
DTEND:20260520T110000Z
DESCRIPTION:Les mer om arrangementet:<br><br><a href="https://www.hvaskjeri
 asker.no/arrangorer/frisklivssentralen-asker/apen-tur-i-satre/">Åpen tur i
  Sætre</a>
X-ALT-DESC;FMTTYPE=text/html:Les mer om arrangementet:<br><br><a href="http
 s://www.hvaskjeriasker.no/arrangorer/frisklivssentralen-asker/apen-tur-i-s
 atre/">Åpen tur i Sætre</a>
SUMMARY:Åpen tur i Sætre
END:VEVENT
END:VCALENDAR
