BEGIN:VCALENDAR
VERSION:2.0
PRODID:-//Hva Skjer i Asker//Activity 183970//NO
BEGIN:VEVENT
UID:2026b7cc-3b38-4ce1-958e-5ea1e17fbfc0
DTSTAMP:20260423T030015Z
ORGANIZER:Asker kommune
LOCATION:Vaterlandsveien 35, 3470 Slemmestad
DTSTART:20260904T180000Z
DTEND:20260904T200000Z
DESCRIPTION:Les mer om arrangementet:<br><br><a href="https://www.hvaskjeri
 asker.no/arrangorer/sekkefabrikken-kulturhus/men-har-du-provd-yoga--et-sta
 ndupshow-om-a-skli-pa-isen/">“Men har du prøvd yoga?” – et standupshow om 
 å skli på isen</a>
X-ALT-DESC;FMTTYPE=text/html:Les mer om arrangementet:<br><br><a href="http
 s://www.hvaskjeriasker.no/arrangorer/sekkefabrikken-kulturhus/men-har-du-p
 rovd-yoga--et-standupshow-om-a-skli-pa-isen/">“Men har du prøvd yoga?” – e
 t standupshow om å skli på isen</a>
SUMMARY:“Men har du prøvd yoga?” – et standupshow om å skli på isen
END:VEVENT
END:VCALENDAR
