BEGIN:VCALENDAR
VERSION:2.0
PRODID:-//Hva Skjer i Asker//Activity 183951//NO
BEGIN:VEVENT
UID:4c7638ac-1beb-4012-99ee-02892869b1ee
DTSTAMP:20260423T093426Z
ORGANIZER:Asker kommune
LOCATION:Strøket 15A, 1383 Asker
DTSTART:20261209T190000Z
DTEND:20261209T200000Z
DESCRIPTION:Les mer om arrangementet:<br><br><a href="https://www.hvaskjeri
 asker.no/arrangorer/asker-kulturhus/solvguttene10/">Sølvguttene</a>
X-ALT-DESC;FMTTYPE=text/html:Les mer om arrangementet:<br><br><a href="http
 s://www.hvaskjeriasker.no/arrangorer/asker-kulturhus/solvguttene10/">Sølvg
 uttene</a>
SUMMARY:Sølvguttene
END:VEVENT
END:VCALENDAR
