BEGIN:VCALENDAR
VERSION:2.0
PRODID:-//Hva Skjer i Asker//Activity 183948//NO
BEGIN:VEVENT
UID:b37276b4-b318-4b42-89b0-60e5447906e3
DTSTAMP:20260423T095006Z
ORGANIZER:Asker kommune
LOCATION:Strøket 15A, 1383 Asker
DTSTART:20261209T170000Z
DTEND:20261209T180000Z
DESCRIPTION:Les mer om arrangementet:<br><br><a href="https://www.hvaskjeri
 asker.no/arrangorer/asker-kulturhus/solvguttene9/">Sølvguttene</a>
X-ALT-DESC;FMTTYPE=text/html:Les mer om arrangementet:<br><br><a href="http
 s://www.hvaskjeriasker.no/arrangorer/asker-kulturhus/solvguttene9/">Sølvgu
 ttene</a>
SUMMARY:Sølvguttene
END:VEVENT
END:VCALENDAR
