BEGIN:VCALENDAR
VERSION:2.0
PRODID:-//Hva Skjer i Asker//Activity 183932//NO
BEGIN:VEVENT
UID:a31346d3-54c0-4a42-9386-b3a00e9c7d07
DTSTAMP:20260422T201745Z
ORGANIZER:Asker kommune
LOCATION:Strøket 15a
DTSTART:20260701T090000Z
DTEND:20260701T103000Z
DESCRIPTION:Les mer om arrangementet:<br><br><a href="https://www.hvaskjeri
 asker.no/arrangorer/asker-bibliotek/sommeraktivitet-tegneverksted/">Sommer
 aktivitet: Tegneverksted</a>
X-ALT-DESC;FMTTYPE=text/html:Les mer om arrangementet:<br><br><a href="http
 s://www.hvaskjeriasker.no/arrangorer/asker-bibliotek/sommeraktivitet-tegne
 verksted/">Sommeraktivitet: Tegneverksted</a>
SUMMARY:Sommeraktivitet: Tegneverksted
END:VEVENT
END:VCALENDAR
