BEGIN:VCALENDAR
VERSION:2.0
PRODID:-//Hva Skjer i Asker//Activity 183927//NO
BEGIN:VEVENT
UID:0b8274eb-3237-416d-bfc9-598ccaa3e5dc
DTSTAMP:20260421T114802Z
ORGANIZER:Asker kommune
LOCATION:Vestre strandvei 3
DTSTART:20260630T100000Z
DTEND:20260630T113000Z
DESCRIPTION:Les mer om arrangementet:<br><br><a href="https://www.hvaskjeri
 asker.no/arrangorer/tofte-bibliotek/sommeraktivitet-tegneverksted/">Sommer
 aktivitet: Tegneverksted</a>
X-ALT-DESC;FMTTYPE=text/html:Les mer om arrangementet:<br><br><a href="http
 s://www.hvaskjeriasker.no/arrangorer/tofte-bibliotek/sommeraktivitet-tegne
 verksted/">Sommeraktivitet: Tegneverksted</a>
SUMMARY:Sommeraktivitet: Tegneverksted
END:VEVENT
END:VCALENDAR
