BEGIN:VCALENDAR
VERSION:2.0
PRODID:-//Hva Skjer i Asker//Activity 183923//NO
BEGIN:VEVENT
UID:ad8a1a48-b639-4d2a-866a-0fcae11ab0ee
DTSTAMP:20260421T153450Z
ORGANIZER:Asker kommune
LOCATION:Søndre Borgen 11
DTSTART:20260522T090000Z
DTEND:20260522T100000Z
DESCRIPTION:Les mer om arrangementet:<br><br><a href="https://www.hvaskjeri
 asker.no/arrangorer/borgen-narmiljosentral/lunsjklubben-digital-svindel/">
 Lunsjklubben: Digital svindel</a>
X-ALT-DESC;FMTTYPE=text/html:Les mer om arrangementet:<br><br><a href="http
 s://www.hvaskjeriasker.no/arrangorer/borgen-narmiljosentral/lunsjklubben-d
 igital-svindel/">Lunsjklubben: Digital svindel</a>
SUMMARY:Lunsjklubben: Digital svindel
END:VEVENT
END:VCALENDAR
