BEGIN:VCALENDAR
VERSION:2.0
PRODID:-//Hva Skjer i Asker//Activity 183920//NO
BEGIN:VEVENT
UID:3ac10b20-7b2c-4484-b398-a390cf4666e4
DTSTAMP:20260421T191128Z
ORGANIZER:Asker kommune
LOCATION:Søndre Borgen 11
DTSTART:20260529T090000Z
DTEND:20260529T100000Z
DESCRIPTION:Les mer om arrangementet:<br><br><a href="https://www.hvaskjeri
 asker.no/arrangorer/borgen-narmiljosentral/lunsjklubben-en-usannsynlig-spi
 on/">Lunsjklubben: En usannsynlig spion</a>
X-ALT-DESC;FMTTYPE=text/html:Les mer om arrangementet:<br><br><a href="http
 s://www.hvaskjeriasker.no/arrangorer/borgen-narmiljosentral/lunsjklubben-e
 n-usannsynlig-spion/">Lunsjklubben: En usannsynlig spion</a>
SUMMARY:Lunsjklubben: En usannsynlig spion
END:VEVENT
END:VCALENDAR
