BEGIN:VCALENDAR
VERSION:2.0
PRODID:-//Hva Skjer i Asker//Activity 183653//NO
BEGIN:VEVENT
UID:34095c03-f3e5-4bc3-9a93-9105fcbe6204
DTSTAMP:20260424T074329Z
ORGANIZER:Asker kommune
LOCATION:Heggedal torg 38, 1389 Heggedal
DTSTART:20260424T080000Z
DTEND:20260424T110000Z
DESCRIPTION:Les mer om arrangementet:<br><br><a href="https://www.hvaskjeri
 asker.no/arrangorer/Hørselsforbundet-Asker/horselstest/">Hørselstest</a>
X-ALT-DESC;FMTTYPE=text/html:Les mer om arrangementet:<br><br><a href="http
 s://www.hvaskjeriasker.no/arrangorer/Hørselsforbundet-Asker/horselstest/">
 Hørselstest</a>
SUMMARY:Hørselstest
END:VEVENT
END:VCALENDAR
