BEGIN:VCALENDAR
VERSION:2.0
PRODID:-//Hva Skjer i Asker//Activity 180484//NO
BEGIN:VEVENT
UID:9006bd7e-03d2-4b03-954a-729292c4891a
DTSTAMP:20260420T025144Z
ORGANIZER:Asker kommune
LOCATION:Håkavikveien 47
DTSTART:20260810T070000Z
DTEND:20260814T140000Z
DESCRIPTION:Les mer om arrangementet:<br><br><a href="https://www.hvaskjeri
 asker.no/arrangorer/gui-sportsklubb/tine-fotballskole-uke-33/">TINE Fotbal
 lskole uke 33</a>
X-ALT-DESC;FMTTYPE=text/html:Les mer om arrangementet:<br><br><a href="http
 s://www.hvaskjeriasker.no/arrangorer/gui-sportsklubb/tine-fotballskole-uke
 -33/">TINE Fotballskole uke 33</a>
SUMMARY:TINE Fotballskole uke 33
END:VEVENT
END:VCALENDAR
