BEGIN:VCALENDAR
VERSION:2.0
PRODID:-//Hva Skjer i Asker//Activity 180459//NO
BEGIN:VEVENT
UID:0529c47c-1b54-4585-996f-0aaeab855ec1
DTSTAMP:20260420T025116Z
ORGANIZER:Asker kommune
LOCATION:Håkavikveien 47
DTSTART:20260803T070000Z
DTEND:20260807T140000Z
DESCRIPTION:Les mer om arrangementet:<br><br><a href="https://www.hvaskjeri
 asker.no/arrangorer/gui-sportsklubb/tine-fotballskole-uke-32/">TINE Fotbal
 lskole uke 32</a>
X-ALT-DESC;FMTTYPE=text/html:Les mer om arrangementet:<br><br><a href="http
 s://www.hvaskjeriasker.no/arrangorer/gui-sportsklubb/tine-fotballskole-uke
 -32/">TINE Fotballskole uke 32</a>
SUMMARY:TINE Fotballskole uke 32
END:VEVENT
END:VCALENDAR
