BEGIN:VCALENDAR
VERSION:2.0
PRODID:-//Hva Skjer i Asker//Activity 180400//NO
BEGIN:VEVENT
UID:bf2e208a-73cb-4b1b-935d-8f29b63dc3c8
DTSTAMP:20260420T022516Z
ORGANIZER:Asker kommune
LOCATION:Håkavikveien 47
DTSTART:20260622T070000Z
DTEND:20260626T140000Z
DESCRIPTION:Les mer om arrangementet:<br><br><a href="https://www.hvaskjeri
 asker.no/arrangorer/gui-sportsklubb/tine-fotballskole-uke-26/">TINE Fotbal
 lskole uke 26</a>
X-ALT-DESC;FMTTYPE=text/html:Les mer om arrangementet:<br><br><a href="http
 s://www.hvaskjeriasker.no/arrangorer/gui-sportsklubb/tine-fotballskole-uke
 -26/">TINE Fotballskole uke 26</a>
SUMMARY:TINE Fotballskole uke 26
END:VEVENT
END:VCALENDAR
