BEGIN:VCALENDAR
VERSION:2.0
PRODID:-//Hva Skjer i Asker//Activity 180093//NO
BEGIN:VEVENT
UID:bc1a732a-7131-4e8c-be5d-ff26e7053d61
DTSTAMP:20260422T185112Z
ORGANIZER:Asker kommune
LOCATION:Vogellund 24, 1394 Nesbru
DTSTART:20260622T060000Z
DTEND:20260626T133000Z
DESCRIPTION:Les mer om arrangementet:<br><br><a href="https://www.hvaskjeri
 asker.no/arrangorer/asker-turnforening/turnuka-6---12ar-uke-26-32-og-33/">
 TurnUka 6 - 12år uke 26, 32 og 33.</a>
X-ALT-DESC;FMTTYPE=text/html:Les mer om arrangementet:<br><br><a href="http
 s://www.hvaskjeriasker.no/arrangorer/asker-turnforening/turnuka-6---12ar-u
 ke-26-32-og-33/">TurnUka 6 - 12år uke 26, 32 og 33.</a>
SUMMARY:TurnUka 6 - 12år uke 26, 32 og 33.
END:VEVENT
END:VCALENDAR
