BEGIN:VCALENDAR
VERSION:2.0
PRODID:-//Hva Skjer i Asker//Activity 179509//NO
BEGIN:VEVENT
UID:ea260f4f-da12-48da-9806-2f25ffef14b8
DTSTAMP:20260422T084309Z
ORGANIZER:Asker kommune
LOCATION:Vaterlandsveien 27, Slemmestad
DTSTART:20260605T100000Z
DTEND:20260605T110000Z
DESCRIPTION:Les mer om arrangementet:<br><br><a href="https://www.hvaskjeri
 asker.no/arrangorer/slemmestad-bibliotek/piano-og-poesi---med-lunsj/">Pian
 o og poesi - med lunsj</a>
X-ALT-DESC;FMTTYPE=text/html:Les mer om arrangementet:<br><br><a href="http
 s://www.hvaskjeriasker.no/arrangorer/slemmestad-bibliotek/piano-og-poesi--
 -med-lunsj/">Piano og poesi - med lunsj</a>
SUMMARY:Piano og poesi - med lunsj
END:VEVENT
END:VCALENDAR
