BEGIN:VCALENDAR
VERSION:2.0
PRODID:-//Hva Skjer i Asker//Activity 178318//NO
BEGIN:VEVENT
UID:59a9a4ec-138d-463c-a77a-6811116028b3
DTSTAMP:20260423T090131Z
ORGANIZER:Asker kommune
LOCATION:Heggedal Torg 38, 1389 Heggedal
DTSTART:20260513T100000Z
DTEND:20260513T110000Z
DESCRIPTION:Les mer om arrangementet:<br><br><a href="https://www.hvaskjeri
 asker.no/arrangorer/Hørselsforbundet-Asker/horselshjelp-av-likeperson2/">H
 ørselshjelp av likeperson</a>
X-ALT-DESC;FMTTYPE=text/html:Les mer om arrangementet:<br><br><a href="http
 s://www.hvaskjeriasker.no/arrangorer/Hørselsforbundet-Asker/horselshjelp-a
 v-likeperson2/">Hørselshjelp av likeperson</a>
SUMMARY:Hørselshjelp av likeperson
RRULE:FREQ=MONTHLY;UNTIL=20260630T144910Z
END:VEVENT
END:VCALENDAR
